BEGIN:VCALENDAR
VERSION:2.0
PRODID:-//wp-events-plugin.com//7.2.2.1//EN
TZID:Europe/Helsinki
X-WR-TIMEZONE:Europe/Helsinki
BEGIN:VEVENT
UID:1495@tampereenparkinsonyhdistys.fi
DTSTART;TZID=Europe/Helsinki:20240116T150000
DTEND;TZID=Europe/Helsinki:20240507T170000
DTSTAMP:20231208T150429Z
URL:https://tampereenparkinsonyhdistys.fi/event-recurring/kalakerho-siiman
 ravistajat/
SUMMARY:Kalakerho Siimanravistajat
DESCRIPTION:Kalakerho Siimanravistajissa saat erinomaista vertaistukea kala
 stamisesta ja kaloista kiinnostuneille henkilöille.\n\nPilkki- ym. kalata
 pahtumat kerrotaan tapaamisissa Parkkistuvalla.\n\nTervetuloa!
ATTACH;FMTTYPE=image/jpeg:https://tampereenparkinsonyhdistys.fi/wp-content
 /uploads/2020/04/Siiri-Vilen-pilkkimässä-scaled.jpg
CATEGORIES:Kokoontumiset,Vertaistuki
LOCATION:Parkkistupa\, Satakunnankatu 56\, Tampere\, 33230\, Suomi
GEO:61.499532;23.741088
X-APPLE-STRUCTURED-LOCATION;VALUE=URI;X-ADDRESS=Satakunnankatu 56\, Tampere
 \, 33230\, Suomi;X-APPLE-RADIUS=100;X-TITLE=Parkkistupa:geo:61.499532,23.7
 41088
END:VEVENT
BEGIN:VTIMEZONE
TZID:Europe/Helsinki
X-LIC-LOCATION:Europe/Helsinki
BEGIN:STANDARD
DTSTART:20231029T030000
TZOFFSETFROM:+0300
TZOFFSETTO:+0200
TZNAME:EET
END:STANDARD
BEGIN:DAYLIGHT
DTSTART:20240331T040000
TZOFFSETFROM:+0200
TZOFFSETTO:+0300
TZNAME:EEST
END:DAYLIGHT
END:VTIMEZONE
END:VCALENDAR