BEGIN:VCALENDAR
VERSION:2.0
PRODID:-//wp-events-plugin.com//7.2.2.1//EN
TZID:Europe/Helsinki
X-WR-TIMEZONE:Europe/Helsinki
BEGIN:VEVENT
UID:2088@tampereenparkinsonyhdistys.fi
DTSTART;TZID=Europe/Helsinki:20260507T160000
DTEND;TZID=Europe/Helsinki:20260507T180000
DTSTAMP:20260114T221815Z
URL:https://tampereenparkinsonyhdistys.fi/tapahtumat/iltaryhma-2026-02-05-
 2026-03-05-2026-04-02-2026-05-07/
SUMMARY:Iltaryhmä
DESCRIPTION:Vertaistukea läheisille\, jotta voisi ymmärtää potilasjäse
 ntä ja samalla saisi tietoa ja taitoa ratkoa mahdollisia ongelmiaan lähe
 isensä kanssa.
CATEGORIES:Kokoontumiset,Vertaistuki
LOCATION:Parkkistupa\, Satakunnankatu 56\, Tampere\, 33230\, Suomi
GEO:61.499532;23.741088
X-APPLE-STRUCTURED-LOCATION;VALUE=URI;X-ADDRESS=Satakunnankatu 56\, Tampere
 \, 33230\, Suomi;X-APPLE-RADIUS=100;X-TITLE=Parkkistupa:geo:61.499532,23.7
 41088
END:VEVENT
BEGIN:VTIMEZONE
TZID:Europe/Helsinki
X-LIC-LOCATION:Europe/Helsinki
BEGIN:DAYLIGHT
DTSTART:20260329T040000
TZOFFSETFROM:+0200
TZOFFSETTO:+0300
TZNAME:EEST
END:DAYLIGHT
END:VTIMEZONE
END:VCALENDAR