BEGIN:VCALENDAR
VERSION:2.0
PRODID:-//wp-events-plugin.com//7.2.2.1//EN
TZID:Europe/Helsinki
X-WR-TIMEZONE:Europe/Helsinki
BEGIN:VEVENT
UID:1429@tampereenparkinsonyhdistys.fi
DTSTART;TZID=Europe/Helsinki:20230512T150000
DTEND;TZID=Europe/Helsinki:20230512T170000
DTSTAMP:20230402T183436Z
URL:https://tampereenparkinsonyhdistys.fi/tapahtumat/hameenkyro-ikaalinen-
 viljakkala-toimintaryhma-2023-05-12/
SUMMARY:Hämeenkyrö-Ikaalinen-Viljakkala toimintaryhmä
DESCRIPTION:Kokoonnumme Aurinkornteellä Hämeenkyrössä.\n\n14.4. ja 18.5
 . kello 15-17
CATEGORIES:Aluekerhot,Kokoukset,Vertaistuki
LOCATION:Toritupa\, Torikatu 8\, Kyröskoski\, 39100\, Suomi
GEO:61.667272;23.181884
X-APPLE-STRUCTURED-LOCATION;VALUE=URI;X-ADDRESS=Torikatu 8\, Kyröskoski\, 
 39100\, Suomi;X-APPLE-RADIUS=100;X-TITLE=Toritupa:geo:61.667272,23.181884
END:VEVENT
BEGIN:VTIMEZONE
TZID:Europe/Helsinki
X-LIC-LOCATION:Europe/Helsinki
BEGIN:DAYLIGHT
DTSTART:20230326T040000
TZOFFSETFROM:+0200
TZOFFSETTO:+0300
TZNAME:EEST
END:DAYLIGHT
END:VTIMEZONE
END:VCALENDAR